Workbook

Sheet Page1
A1: Page 1
A2: CJA 20 Worksheet | L2: Judge
A3: In Court Worksheet | L3: Case No.
L4: Defendant
A5: Date | B5: Brief Description of Service | C5: Rate* | D5: Arraign./Plea (CJA 20, Box 15a) | F5: Bail/Detention Hearings (CJA 20, Box 15b) | H5: Motion Hearings (CJA 20, Box 15c) | J5: Trial (CJA 20, Box 15d) | L5: Sentencing Hearings (CJA 20, Box 15e) | N5: Revocation Hearings (CJA 20, Box 15f) | P5: Appeals Court (CJA 20, Box 15g) | R5: Other (CJA 20, Box 15h)
C6: =IF(A6="","$0",IF(A6<=DATE(2007,12,31),"$94",IF(A6=DATE(2008,1,1),"$100",IF(A6<=DATE(2009,3,10),"$100",IF(A6<=DATE(2009,12,31),"$110",IF(A6<=DATE(2013,8,31),"$125",IF(A6<=DATE(2014,2,28),"$110",IF(A6>=DATE(2014,3,1),"$126",)))))))) -> $0 | E6: =SUM(C6*D6) -> 0 | G6: =SUM(C6*F6) -> 0 | I6: =SUM(C6*H6) -> 0 | K6: =SUM(C6*J6) -> 0 | M6: =SUM(L6*C6) -> 0 | O6: =SUM(C6*N6) -> 0 | Q6: =SUM(C6*P6) -> 0 | S6: =SUM(C6*R6) -> 0
C7: =IF(A7="","$0",IF(A7<=DATE(2007,12,31),"$94",IF(A7=DATE(2008,1,1),"$100",IF(A7<=DATE(2009,3,10),"$100",IF(A7<=DATE(2009,12,31),"$110",IF(A7<=DATE(2013,8,31),"$125",IF(A7<=DATE(2014,2,28),"$110",IF(A7>=DATE(2014,3,1),"$126",)))))))) -> $0 | E7: =SUM(C7*D7) -> 0 | G7: =SUM(C7*F7) -> 0 | I7: =SUM(C7*H7) -> 0 | K7: =SUM(C7*J7) -> 0 | M7: =SUM(L7*C7) -> 0 | O7: =SUM(C7*N7) -> 0 | Q7: =SUM(C7*P7) -> 0 | S7: =SUM(C7*R7) -> 0
C8: =IF(A8="","$0",IF(A8<=DATE(2007,12,31),"$94",IF(A8=DATE(2008,1,1),"$100",IF(A8<=DATE(2009,3,10),"$100",IF(A8<=DATE(2009,12,31),"$110",IF(A8<=DATE(2013,8,31),"$125",IF(A8<=DATE(2014,2,28),"$110",IF(A8>=DATE(2014,3,1),"$126",)))))))) -> $0 | E8: =SUM(C8*D8) -> 0 | G8: =SUM(C8*F8) -> 0 | I8: =SUM(C8*H8) -> 0 | K8: =SUM(C8*J8) -> 0 | M8: =SUM(L8*C8) -> 0 | O8: =SUM(C8*N8) -> 0 | Q8: =SUM(C8*P8) -> 0 | S8: =SUM(C8*R8) -> 0
C9: =IF(A9="","$0",IF(A9<=DATE(2007,12,31),"$94",IF(A9=DATE(2008,1,1),"$100",IF(A9<=DATE(2009,3,10),"$100",IF(A9<=DATE(2009,12,31),"$110",IF(A9<=DATE(2013,8,31),"$125",IF(A9<=DATE(2014,2,28),"$110",IF(A9>=DATE(2014,3,1),"$126",)))))))) -> $0 | E9: =SUM(C9*D9) -> 0 | G9: =SUM(C9*F9) -> 0 | I9: =SUM(C9*H9) -> 0 | K9: =SUM(C9*J9) -> 0 | M9: =SUM(L9*C9) -> 0 | O9: =SUM(C9*N9) -> 0 | Q9: =SUM(C9*P9) -> 0 | S9: =SUM(C9*R9) -> 0
C10: =IF(A10="","$0",IF(A10<=DATE(2007,12,31),"$94",IF(A10=DATE(2008,1,1),"$100",IF(A10<=DATE(2009,3,10),"$100",IF(A10<=DATE(2009,12,31),"$110",IF(A10<=DATE(2013,8,31),"$125",IF(A10<=DATE(2014,2,28),"$110",IF(A10>=DATE(2014,3,1),"$126",)))))))) -> $0 | E10: =SUM(C10*D10) -> 0 | G10: =SUM(C10*F10) -> 0 | I10: =SUM(C10*H10) -> 0 | K10: =SUM(C10*J10) -> 0 | M10: =SUM(L10*C10) -> 0 | O10: =SUM(C10*N10) -> 0 | Q10: =SUM(C10*P10) -> 0 | S10: =SUM(C10*R10) -> 0
C11: =IF(A11="","$0",IF(A11<=DATE(2007,12,31),"$94",IF(A11=DATE(2008,1,1),"$100",IF(A11<=DATE(2009,3,10),"$100",IF(A11<=DATE(2009,12,31),"$110",IF(A11<=DATE(2013,8,31),"$125",IF(A11<=DATE(2014,2,28),"$110",IF(A11>=DATE(2014,3,1),"$126",)))))))) -> $0 | E11: =SUM(C11*D11) -> 0 | G11: =SUM(C11*F11) -> 0 | I11: =SUM(C11*H11) -> 0 | K11: =SUM(C11*J11) -> 0 | M11: =SUM(L11*C11) -> 0 | O11: =SUM(C11*N11) -> 0 | Q11: =SUM(C11*P11) -> 0 | S11: =SUM(C11*R11) -> 0
C12: =IF(A12="","$0",IF(A12<=DATE(2007,12,31),"$94",IF(A12=DATE(2008,1,1),"$100",IF(A12<=DATE(2009,3,10),"$100",IF(A12<=DATE(2009,12,31),"$110",IF(A12<=DATE(2013,8,31),"$125",IF(A12<=DATE(2014,2,28),"$110",IF(A12>=DATE(2014,3,1),"$126",)))))))) -> $0 | E12: =SUM(C12*D12) -> 0 | G12: =SUM(C12*F12) -> 0 | I12: =SUM(C12*H12) -> 0 | K12: =SUM(C12*J12) -> 0 | M12: =SUM(L12*C12) -> 0 | O12: =SUM(C12*N12) -> 0 | Q12: =SUM(C12*P12) -> 0 | S12: =SUM(C12*R12) -> 0
C13: =IF(A13="","$0",IF(A13<=DATE(2007,12,31),"$94",IF(A13=DATE(2008,1,1),"$100",IF(A13<=DATE(2009,3,10),"$100",IF(A13<=DATE(2009,12,31),"$110",IF(A13<=DATE(2013,8,31),"$125",IF(A13<=DATE(2014,2,28),"$110",IF(A13>=DATE(2014,3,1),"$126",)))))))) -> $0 | E13: =SUM(C13*D13) -> 0 | G13: =SUM(C13*F13) -> 0 | I13: =SUM(C13*H13) -> 0 | K13: =SUM(C13*J13) -> 0 | M13: =SUM(L13*C13) -> 0 | O13: =SUM(C13*N13) -> 0 | Q13: =SUM(C13*P13) -> 0 | S13: =SUM(C13*R13) -> 0
C14: =IF(A14="","$0",IF(A14<=DATE(2007,12,31),"$94",IF(A14=DATE(2008,1,1),"$100",IF(A14<=DATE(2009,3,10),"$100",IF(A14<=DATE(2009,12,31),"$110",IF(A14<=DATE(2013,8,31),"$125",IF(A14<=DATE(2014,2,28),"$110",IF(A14>=DATE(2014,3,1),"$126",)))))))) -> $0 | E14: =SUM(C14*D14) -> 0 | G14: =SUM(C14*F14) -> 0 | I14: =SUM(C14*H14) -> 0 | K14: =SUM(C14*J14) -> 0 | M14: =SUM(L14*C14) -> 0 | O14: =SUM(C14*N14) -> 0 | Q14: =SUM(C14*P14) -> 0 | S14: =SUM(C14*R14) -> 0
C15: =IF(A15="","$0",IF(A15<=DATE(2007,12,31),"$94",IF(A15=DATE(2008,1,1),"$100",IF(A15<=DATE(2009,3,10),"$100",IF(A15<=DATE(2009,12,31),"$110",IF(A15<=DATE(2013,8,31),"$125",IF(A15<=DATE(2014,2,28),"$110",IF(A15>=DATE(2014,3,1),"$126",)))))))) -> $0 | E15: =SUM(C15*D15) -> 0 | G15: =SUM(C15*F15) -> 0 | I15: =SUM(C15*H15) -> 0 | K15: =SUM(C15*J15) -> 0 | M15: =SUM(L15*C15) -> 0 | O15: =SUM(C15*N15) -> 0 | Q15: =SUM(C15*P15) -> 0 | S15: =SUM(C15*R15) -> 0
C16: =IF(A16="","$0",IF(A16<=DATE(2007,12,31),"$94",IF(A16=DATE(2008,1,1),"$100",IF(A16<=DATE(2009,3,10),"$100",IF(A16<=DATE(2009,12,31),"$110",IF(A16<=DATE(2013,8,31),"$125",IF(A16<=DATE(2014,2,28),"$110",IF(A16>=DATE(2014,3,1),"$126",)))))))) -> $0 | E16: =SUM(C16*D16) -> 0 | G16: =SUM(C16*F16) -> 0 | I16: =SUM(C16*H16) -> 0 | K16: =SUM(C16*J16) -> 0 | M16: =SUM(L16*C16) -> 0 | O16: =SUM(C16*N16) -> 0 | Q16: =SUM(C16*P16) -> 0 | S16: =SUM(C16*R16) -> 0
C17: =IF(A17="","$0",IF(A17<=DATE(2007,12,31),"$94",IF(A17=DATE(2008,1,1),"$100",IF(A17<=DATE(2009,3,10),"$100",IF(A17<=DATE(2009,12,31),"$110",IF(A17<=DATE(2013,8,31),"$125",IF(A17<=DATE(2014,2,28),"$110",IF(A17>=DATE(2014,3,1),"$126",)))))))) -> $0 | E17: =SUM(C17*D17) -> 0 | G17: =SUM(C17*F17) -> 0 | I17: =SUM(C17*H17) -> 0 | K17: =SUM(C17*J17) -> 0 | M17: =SUM(L17*C17) -> 0 | O17: =SUM(C17*N17) -> 0 | Q17: =SUM(C17*P17) -> 0 | S17: =SUM(C17*R17) -> 0
... C21: =IF(A21="","$0",IF(A21<=DATE(2007,12,31),"$94",IF(A21=DATE(2008,1,1),"$100",IF(A21<=DATE(2009,3,10),"$100",IF(A21<=DATE(2009,12,31),"$110",IF(A21<=DATE(2013,8,31),"$125",IF(A21<=DATE(2014,2,28),"$110",IF(A21>=DATE(2014,3,1),"$126",)))))))) -> $0 | E21: =SUM(C21*D21) -> 0 | G21: =SUM(C21*F21) -> 0 | I21: =SUM(C21*H21) -> 0 | K21: =SUM(C21*J21) -> 0 | M21: =SUM(L21*C21) -> 0 | O21: =SUM(C21*N21) -> 0 | Q21: =SUM(C21*P21) -> 0 | S21: =SUM(C21*R21) -> 0
A22: Page Total | D22: =SUM(D6:D21) -> 0 | E22: =SUM(E6:E21) -> 0 | F22: =SUM(F6:F21) -> 0 | G22: =SUM(G6:G21) -> 0 | H22: =SUM(H6:H21) -> 0 | I22: =SUM(I6:I21) -> 0 | J22: =SUM(J6:J21) -> 0 | K22: =SUM(K6:K21) -> 0 | ... S22: =SUM(S6:S21) -> 0
A23: Overall Total | D23: =SUM(D6:D21) -> 0 | E23: =SUM(E6:E21) -> 0 | F23: =SUM(F6:F21) -> 0 | G23: =SUM(G6:G21) -> 0 | H23: =SUM(H6:H21) -> 0 | I23: =SUM(I6:I21) -> 0 | J23: =SUM(J6:J21) -> 0 | K23: =SUM(K6:K21) -> 0 | ... S23: =SUM(S6:S21) -> 0
A24: Grand Total | D24: =SUM(D23+F23+H23+J23+L23+N23+P23+R23) -> 0 | F24: =SUM(E23+G23+I23+K23+M23+O23+Q23+S23) -> 0

Sheet Page2
A1: Page 2
A2: CJA 20 Worksheet | L2: Judge | N2: =Page1!N2 -> 0
A3: In Court Worksheet | L3: Case No. | N3: =Page1!N3 -> 0
L4: Defendant | N4: =Page1!N4 -> 0
A5: Date | B5: Brief Description of Service | C5: Rate* | D5: Arraign./Plea (CJA 20, Box 15a) | F5: Bail/Detention Hearings (CJA 20, Box 15b) | H5: Motion Hearings (CJA 20, Box 15c) | J5: Trial (CJA 20, Box 15d) | L5: Sentencing Hearings (CJA 20, Box 15e) | N5: Revocation Hearings (CJA 20, Box 15f) | P5: Appeals Court (CJA 20, Box 15g) | R5: Other (CJA 20, Box 15h)
C6: =IF(A6="","$0",IF(A6<=DATE(2007,12,31),"$94",IF(A6=DATE(2008,1,1),"$100",IF(A6<=DATE(2009,3,10),"$100",IF(A6<=DATE(2009,12,31),"$110",IF(A6<=DATE(2013,8,31),"$125",IF(A6<=DATE(2014,2,28),"$110",IF(A6>=DATE(2014,3,1),"$126",)))))))) -> $0 | E6: =SUM(C6*D6) -> 0 | G6: =SUM(C6*F6) -> 0 | I6: =SUM(C6*H6) -> 0 | K6: =SUM(C6*J6) -> 0 | M6: =SUM(L6*C6) -> 0 | O6: =SUM(C6*N6) -> 0 | Q6: =SUM(C6*P6) -> 0 | S6: =SUM(C6*R6) -> 0
C7: =IF(A7="","$0",IF(A7<=DATE(2007,12,31),"$94",IF(A7=DATE(2008,1,1),"$100",IF(A7<=DATE(2009,3,10),"$100",IF(A7<=DATE(2009,12,31),"$110",IF(A7<=DATE(2013,8,31),"$125",IF(A7<=DATE(2014,2,28),"$110",IF(A7>=DATE(2014,3,1),"$126",)))))))) -> $0 | E7: =SUM(C7*D7) -> 0 | G7: =SUM(C7*F7) -> 0 | I7: =SUM(C7*H7) -> 0 | K7: =SUM(C7*J7) -> 0 | M7: =SUM(L7*C7) -> 0 | O7: =SUM(C7*N7) -> 0 | Q7: =SUM(C7*P7) -> 0 | S7: =SUM(C7*R7) -> 0
C8: =IF(A8="","$0",IF(A8<=DATE(2007,12,31),"$94",IF(A8=DATE(2008,1,1),"$100",IF(A8<=DATE(2009,3,10),"$100",IF(A8<=DATE(2009,12,31),"$110",IF(A8<=DATE(2013,8,31),"$125",IF(A8<=DATE(2014,2,28),"$110",IF(A8>=DATE(2014,3,1),"$126",)))))))) -> $0 | E8: =SUM(C8*D8) -> 0 | G8: =SUM(C8*F8) -> 0 | I8: =SUM(C8*H8) -> 0 | K8: =SUM(C8*J8) -> 0 | M8: =SUM(L8*C8) -> 0 | O8: =SUM(C8*N8) -> 0 | Q8: =SUM(C8*P8) -> 0 | S8: =SUM(C8*R8) -> 0
C9: =IF(A9="","$0",IF(A9<=DATE(2007,12,31),"$94",IF(A9=DATE(2008,1,1),"$100",IF(A9<=DATE(2009,3,10),"$100",IF(A9<=DATE(2009,12,31),"$110",IF(A9<=DATE(2013,8,31),"$125",IF(A9<=DATE(2014,2,28),"$110",IF(A9>=DATE(2014,3,1),"$126",)))))))) -> $0 | E9: =SUM(C9*D9) -> 0 | G9: =SUM(C9*F9) -> 0 | I9: =SUM(C9*H9) -> 0 | K9: =SUM(C9*J9) -> 0 | M9: =SUM(L9*C9) -> 0 | O9: =SUM(C9*N9) -> 0 | Q9: =SUM(C9*P9) -> 0 | S9: =SUM(C9*R9) -> 0
C10: =IF(A10="","$0",IF(A10<=DATE(2007,12,31),"$94",IF(A10=DATE(2008,1,1),"$100",IF(A10<=DATE(2009,3,10),"$100",IF(A10<=DATE(2009,12,31),"$110",IF(A10<=DATE(2013,8,31),"$125",IF(A10<=DATE(2014,2,28),"$110",IF(A10>=DATE(2014,3,1),"$126",)))))))) -> $0 | E10: =SUM(C10*D10) -> 0 | G10: =SUM(C10*F10) -> 0 | I10: =SUM(C10*H10) -> 0 | K10: =SUM(C10*J10) -> 0 | M10: =SUM(L10*C10) -> 0 | O10: =SUM(C10*N10) -> 0 | Q10: =SUM(C10*P10) -> 0 | S10: =SUM(C10*R10) -> 0
C11: =IF(A11="","$0",IF(A11<=DATE(2007,12,31),"$94",IF(A11=DATE(2008,1,1),"$100",IF(A11<=DATE(2009,3,10),"$100",IF(A11<=DATE(2009,12,31),"$110",IF(A11<=DATE(2013,8,31),"$125",IF(A11<=DATE(2014,2,28),"$110",IF(A11>=DATE(2014,3,1),"$126",)))))))) -> $0 | E11: =SUM(C11*D11) -> 0 | G11: =SUM(C11*F11) -> 0 | I11: =SUM(C11*H11) -> 0 | K11: =SUM(C11*J11) -> 0 | M11: =SUM(L11*C11) -> 0 | O11: =SUM(C11*N11) -> 0 | Q11: =SUM(C11*P11) -> 0 | S11: =SUM(C11*R11) -> 0
C12: =IF(A12="","$0",IF(A12<=DATE(2007,12,31),"$94",IF(A12=DATE(2008,1,1),"$100",IF(A12<=DATE(2009,3,10),"$100",IF(A12<=DATE(2009,12,31),"$110",IF(A12<=DATE(2013,8,31),"$125",IF(A12<=DATE(2014,2,28),"$110",IF(A12>=DATE(2014,3,1),"$126",)))))))) -> $0 | E12: =SUM(C12*D12) -> 0 | G12: =SUM(C12*F12) -> 0 | I12: =SUM(C12*H12) -> 0 | K12: =SUM(C12*J12) -> 0 | M12: =SUM(L12*C12) -> 0 | O12: =SUM(C12*N12) -> 0 | Q12: =SUM(C12*P12) -> 0 | S12: =SUM(C12*R12) -> 0
C13: =IF(A13="","$0",IF(A13<=DATE(2007,12,31),"$94",IF(A13=DATE(2008,1,1),"$100",IF(A13<=DATE(2009,3,10),"$100",IF(A13<=DATE(2009,12,31),"$110",IF(A13<=DATE(2013,8,31),"$125",IF(A13<=DATE(2014,2,28),"$110",IF(A13>=DATE(2014,3,1),"$126",)))))))) -> $0 | E13: =SUM(C13*D13) -> 0 | G13: =SUM(C13*F13) -> 0 | I13: =SUM(C13*H13) -> 0 | K13: =SUM(C13*J13) -> 0 | M13: =SUM(L13*C13) -> 0 | O13: =SUM(C13*N13) -> 0 | Q13: =SUM(C13*P13) -> 0 | S13: =SUM(C13*R13) -> 0
C14: =IF(A14="","$0",IF(A14<=DATE(2007,12,31),"$94",IF(A14=DATE(2008,1,1),"$100",IF(A14<=DATE(2009,3,10),"$100",IF(A14<=DATE(2009,12,31),"$110",IF(A14<=DATE(2013,8,31),"$125",IF(A14<=DATE(2014,2,28),"$110",IF(A14>=DATE(2014,3,1),"$126",)))))))) -> $0 | E14: =SUM(C14*D14) -> 0 | G14: =SUM(C14*F14) -> 0 | I14: =SUM(C14*H14) -> 0 | K14: =SUM(C14*J14) -> 0 | M14: =SUM(L14*C14) -> 0 | O14: =SUM(C14*N14) -> 0 | Q14: =SUM(C14*P14) -> 0 | S14: =SUM(C14*R14) -> 0
C15: =IF(A15="","$0",IF(A15<=DATE(2007,12,31),"$94",IF(A15=DATE(2008,1,1),"$100",IF(A15<=DATE(2009,3,10),"$100",IF(A15<=DATE(2009,12,31),"$110",IF(A15<=DATE(2013,8,31),"$125",IF(A15<=DATE(2014,2,28),"$110",IF(A15>=DATE(2014,3,1),"$126",)))))))) -> $0 | E15: =SUM(C15*D15) -> 0 | G15: =SUM(C15*F15) -> 0 | I15: =SUM(C15*H15) -> 0 | K15: =SUM(C15*J15) -> 0 | M15: =SUM(L15*C15) -> 0 | O15: =SUM(C15*N15) -> 0 | Q15: =SUM(C15*P15) -> 0 | S15: =SUM(C15*R15) -> 0
C16: =IF(A16="","$0",IF(A16<=DATE(2007,12,31),"$94",IF(A16=DATE(2008,1,1),"$100",IF(A16<=DATE(2009,3,10),"$100",IF(A16<=DATE(2009,12,31),"$110",IF(A16<=DATE(2013,8,31),"$125",IF(A16<=DATE(2014,2,28),"$110",IF(A16>=DATE(2014,3,1),"$126",)))))))) -> $0 | E16: =SUM(C16*D16) -> 0 | G16: =SUM(C16*F16) -> 0 | I16: =SUM(C16*H16) -> 0 | K16: =SUM(C16*J16) -> 0 | M16: =SUM(L16*C16) -> 0 | O16: =SUM(C16*N16) -> 0 | Q16: =SUM(C16*P16) -> 0 | S16: =SUM(C16*R16) -> 0
C17: =IF(A17="","$0",IF(A17<=DATE(2007,12,31),"$94",IF(A17=DATE(2008,1,1),"$100",IF(A17<=DATE(2009,3,10),"$100",IF(A17<=DATE(2009,12,31),"$110",IF(A17<=DATE(2013,8,31),"$125",IF(A17<=DATE(2014,2,28),"$110",IF(A17>=DATE(2014,3,1),"$126",)))))))) -> $0 | E17: =SUM(C17*D17) -> 0 | G17: =SUM(C17*F17) -> 0 | I17: =SUM(C17*H17) -> 0 | K17: =SUM(C17*J17) -> 0 | M17: =SUM(L17*C17) -> 0 | O17: =SUM(C17*N17) -> 0 | Q17: =SUM(C17*P17) -> 0 | S17: =SUM(C17*R17) -> 0
... C21: =IF(A21="","$0",IF(A21<=DATE(2007,12,31),"$94",IF(A21=DATE(2008,1,1),"$100",IF(A21<=DATE(2009,3,10),"$100",IF(A21<=DATE(2009,12,31),"$110",IF(A21<=DATE(2013,8,31),"$125",IF(A21<=DATE(2014,2,28),"$110",IF(A21>=DATE(2014,3,1),"$126",)))))))) -> $0 | E21: =SUM(C21*D21) -> 0 | G21: =SUM(C21*F21) -> 0 | I21: =SUM(C21*H21) -> 0 | K21: =SUM(C21*J21) -> 0 | M21: =SUM(L21*C21) -> 0 | O21: =SUM(C21*N21) -> 0 | Q21: =SUM(C21*P21) -> 0 | S21: =SUM(C21*R21) -> 0
A22: Page Total | D22: =SUM(D6:D21) -> 0 | E22: =SUM(E6:E21) -> 0 | F22: =SUM(F6:F21) -> 0 | G22: =SUM(G6:G21) -> 0 | H22: =SUM(H6:H21) -> 0 | I22: =SUM(I6:I21) -> 0 | J22: =SUM(J6:J21) -> 0 | K22: =SUM(K6:K21) -> 0 | ... S22: =SUM(S6:S21) -> 0
A23: Overall Total | D23: =Page1!D23+Page2!D22 -> 0 | E23: =Page1!E23+Page2!E22 -> 0 | F23: =Page1!F23+Page2!F22 -> 0 | G23: =Page1!G23+Page2!G22 -> 0 | H23: =Page1!H23+Page2!H22 -> 0 | I23: =Page1!I23+Page2!I22 -> 0 | J23: =Page1!J23+Page2!J22 -> 0 | K23: =Page1!K23+Page2!K22 -> 0 | ... S23: =Page1!S23+Page2!S22 -> 0
A24: Grand Total | D24: =SUM(D23+F23+H23+J23+L23+N23+P23+R23) -> 0 | F24: =SUM(E23+G23+I23+K23+M23+O23+Q23+S23) -> 0
